BEGIN:VCALENDAR
PRODID:-//eluceo/ical//2.0/EN
VERSION:2.0
CALSCALE:GREGORIAN
BEGIN:VEVENT
UID:45ca56ea32ff36d8e4c50eceeff26eda
DTSTAMP:20260424T231807Z
SUMMARY:Young Family Shabbat 17/18
DESCRIPTION:Shaw JCC of Akron\nCalendar\nhttps://shawjcc.org/calendar/young
 -family-shabbat-1718-222988\n\nMonthly Young Family Shabbat Dinner
DTSTART;TZID=America/New_York:20170915T173000
DTEND;TZID=America/New_York:20170915T193000
END:VEVENT
END:VCALENDAR
