BEGIN:VCALENDAR
PRODID:-//eluceo/ical//2.0/EN
VERSION:2.0
CALSCALE:GREGORIAN
BEGIN:VEVENT
UID:27c26e1c4a19f979eff355a19583ff94
DTSTAMP:20260421T070204Z
SUMMARY:Young Family Shabbat
DESCRIPTION:Shaw JCC of Akron\nCalendar\nhttps://shawjcc.org/calendar/young
 -family-shabbat-2019-20-307332\n\nJoin us for a monthly Young Family Shabb
 at Dinner & Service generously sponsored by the Lippman Kanfer Family Fou
 ndation. Open for families (with at least one child) children in grades 6 
 and below.
DTSTART;TZID=America/New_York:20190920T173000
DTEND;TZID=America/New_York:20190920T193000
END:VEVENT
END:VCALENDAR
