BEGIN:VCALENDAR
PRODID:-//eluceo/ical//2.0/EN
VERSION:2.0
CALSCALE:GREGORIAN
BEGIN:VEVENT
UID:fb8f1b2e0f6e3931c81a23765327fd6f
DTSTAMP:20260423T004125Z
SUMMARY:Youth Basketball
DESCRIPTION:Shaw JCC of Akron\nCalendar\nhttps://shawjcc.org/calendar/youth
 -basketballjanmeet\n\nPlayers are invited to join our youth basketball lea
 gue where players will receive their jerseys and meet their coaches. Lippm
 an students receive a $10 discount. Register by phone at 330-867-7850 or s
 top by the front desk. \n\nJan.\, 14\, 6 p.m.- Coaches Meeting\n\nJan. 19
 \, 6 p.m.- Skills clinic (receive jerseys and meet coaches)\n\nJan. 26- Ma
 rch 8 - Basketball games (seven-week season)\n\nClinic times\n\n200.YBL1 A
 ges 4-5\, 1-2 p.m.\n\n200.YBL2 Ages 6-7\, 2-3 p.m.\n\n200.YBL3 Ages 8-10\,
  3-4 p....
DTSTART;TZID=America/New_York:20200114T180000
DTEND;TZID=America/New_York:20200114T190000
END:VEVENT
END:VCALENDAR
