BEGIN:VCALENDAR
PRODID:-//eluceo/ical//2.0/EN
VERSION:2.0
CALSCALE:GREGORIAN
BEGIN:VEVENT
UID:f77e7c19b551b4030ebf396399d62d0c
DTSTAMP:20260420T213356Z
SUMMARY:Lunch Bunch
DESCRIPTION:Shaw JCC of Akron\nJCC Calendar\nhttps://shawjcc.org/jcccalenda
 r/-lunch-bunch-oct102017\n\nOnce-a-month come and join us as we eat at dif
 ferent locally owned\, Akron-area restaurants. PLEASE RSVP to Rachel Armin
  Williams at rwilliams@jewishakron.org or call 330-835-0027 at least one d
 ay in advance. Meet at the restaurant at 11:30 a.m. on your own. \n\nBJ
 ’s Brewhouse           \n3265 W. Market St. #85\, Fairlawn @ 
 Summit Mall
DTSTART;TZID=America/New_York:20171010T113000
DTEND;TZID=America/New_York:20171010T130000
END:VEVENT
END:VCALENDAR
