BEGIN:VCALENDAR
PRODID:-//eluceo/ical//2.0/EN
VERSION:2.0
CALSCALE:GREGORIAN
BEGIN:VEVENT
UID:8030ad347cd892158de522f54de6ecce
DTSTAMP:20260420T200304Z
SUMMARY:20/20/20
DESCRIPTION:Shaw JCC of Akron\nJCC Calendar\nhttps://shawjcc.org/jcccalenda
 r/202020-10042018\n\n20 minutes of Spinning\, 20 minutes of strength and c
 onditioning and 20 minutes of core/stretching & Pilates. Just remember to 
 bring your mat for a great hour of a full body workout.
DTSTART;TZID=America/New_York:20181004T170000
DTEND;TZID=America/New_York:20181004T180000
END:VEVENT
END:VCALENDAR
