BEGIN:VCALENDAR
PRODID:-//eluceo/ical//2.0/EN
VERSION:2.0
CALSCALE:GREGORIAN
BEGIN:VEVENT
UID:e89d1b6ab29fd7506e3520f738f0672d
DTSTAMP:20260422T082809Z
SUMMARY:AARP Driver Safety Program
DESCRIPTION:Shaw JCC of Akron\nJCC Calendar\nhttps://shawjcc.org/jcccalenda
 r/aarp-driver-safety-program\n\nLunch included. Presented by AARP\, this c
 lassroom-based driver safety refresher course is geared towards drivers ov
 er 50 looking to fine-tune or improve their driving skills. Using a combin
 ation of discussion and short videos\, a variety of topics important to sa
 fe driving will be covered. After completing the class\, you will receive 
 a certificate that may entitle you to an insurance discount.\n\nCost: AARP
  members $20/Non- AARP members $25. Driving Confidence - $Priceless.\n\n 
DTSTART;TZID=America/New_York:20191209T123000
DTEND;TZID=America/New_York:20191209T170000
END:VEVENT
END:VCALENDAR
