BEGIN:VCALENDAR
PRODID:-//eluceo/ical//2.0/EN
VERSION:2.0
CALSCALE:GREGORIAN
BEGIN:VEVENT
UID:b431a4438233f4ffdb52880026125cb1
DTSTAMP:20260420T042058Z
SUMMARY:Active Agers Strength Training
DESCRIPTION:Shaw JCC of Akron\nJCC Calendar\nhttps://shawjcc.org/jcccalenda
 r/active-agers-strength-training\n\nFREE for J members! This 45-minute cl
 ass strengthens muscles\, tendons\, and ligaments\, improves balance\, inc
 reases range of motion\, and\, best of all\, gives you ENERGY! Recommended
  for 60 and older but all ages are welcome. (All Levels) Nonmembers: $30 f
 or 10 classes
DTSTART;TZID=America/New_York:20161129T094500
DTEND;TZID=America/New_York:20161129T103000
END:VEVENT
END:VCALENDAR
