BEGIN:VCALENDAR
PRODID:-//eluceo/ical//2.0/EN
VERSION:2.0
CALSCALE:GREGORIAN
BEGIN:VEVENT
UID:0ed81a37b03778d314872dfb0f956b7a
DTSTAMP:20260421T135427Z
SUMMARY:Adult Swim Lessons (ages 14+)
DESCRIPTION:Shaw JCC of Akron\nJCC Calendar\nhttps://shawjcc.org/jcccalenda
 r/adult-swim-lessons-ages-14\n\nTuesdays & Thursdays Oct. 25-Nov. 17 7:30-
 8:15 p.m. 603.992\n\nCost: $40 M/$60 G\n\nCall 330-867-7850 to register!
DTSTART;TZID=America/New_York:20161025T193000
DTEND;TZID=America/New_York:20161025T201500
END:VEVENT
END:VCALENDAR
