BEGIN:VCALENDAR
PRODID:-//eluceo/ical//2.0/EN
VERSION:2.0
CALSCALE:GREGORIAN
BEGIN:VEVENT
UID:3b220411ae16e89e407215c6b94e7033
DTSTAMP:20260422T140944Z
SUMMARY:Adult Swim Lessons (ages 14+)
DESCRIPTION:Shaw JCC of Akron\nJCC Calendar\nhttps://shawjcc.org/jcccalenda
 r/adult-swim-lessons-ages-14-01132018\n\nLearn the basics of swimming and 
 how to feel comfortable in the water.\n\n603.301
DTSTART;TZID=America/New_York:20180113T090000
DTEND;TZID=America/New_York:20180113T093000
END:VEVENT
END:VCALENDAR
