BEGIN:VCALENDAR
PRODID:-//eluceo/ical//2.0/EN
VERSION:2.0
CALSCALE:GREGORIAN
BEGIN:VEVENT
UID:ffbc094d0dbf9087ff42f0cae89c5a86
DTSTAMP:20260425T231343Z
SUMMARY:Adult Swim Lessons (ages 14+)
DESCRIPTION:Shaw JCC of Akron\nJCC Calendar\nhttps://shawjcc.org/jcccalenda
 r/adult-swim-lessons-ages-14-06092018\n\nDeveloped for older teens and adu
 lts\, this program gives adult swimmers at every level the opportunity to 
 improve their skills in a safe environment – and under the guidance of a
  trained instructor. Learn at your own pace and gain confidence in the wat
 er.\n\n603.306
DTSTART;TZID=America/New_York:20180609T090000
DTEND;TZID=America/New_York:20180609T093000
END:VEVENT
END:VCALENDAR
