BEGIN:VCALENDAR
PRODID:-//eluceo/ical//2.0/EN
VERSION:2.0
CALSCALE:GREGORIAN
BEGIN:VEVENT
UID:78c7293322ac9b2c87ee3f3198c6d729
DTSTAMP:20260421T124031Z
SUMMARY:Adult Swim Lessons (ages 14+)
DESCRIPTION:Shaw JCC of Akron\nJCC Calendar\nhttps://shawjcc.org/jcccalenda
 r/adult-swim-lessons-ages-14-07092018\n\nDeveloped for older teens and adu
 lts\, this program gives adult swimmers at every level the opportunity to 
 improve their skills in a safe environment – and under the guidance of a
  trained instructor. Learn at your own pace and gain confidence in the wat
 er.\n\nClass runs July 9-19\n\n603.211
DTSTART;TZID=America/New_York:20180709T090000
DTEND;TZID=America/New_York:20180709T094500
END:VEVENT
END:VCALENDAR
