BEGIN:VCALENDAR
PRODID:-//eluceo/ical//2.0/EN
VERSION:2.0
CALSCALE:GREGORIAN
BEGIN:VEVENT
UID:eee15e572744ca7d1b00dcddcdd2d16d
DTSTAMP:20260422T083822Z
SUMMARY:Adult Swim Lessons (ages 14+)
DESCRIPTION:Shaw JCC of Akron\nJCC Calendar\nhttps://shawjcc.org/jcccalenda
 r/adult-swim-lessons-ages-14-07162018\n\nDeveloped for older teens and adu
 lts\, this program gives adult swimmers at every level the opportunity to 
 improve their skills in a safe environment – and under the guidance of a
  trained instructor. Learn at your own pace and gain confidence in the wat
 er.\n\nClass runs July 16-Aug. 8\n\n603.308
DTSTART;TZID=America/New_York:20180716T191500
DTEND;TZID=America/New_York:20180716T194500
END:VEVENT
END:VCALENDAR
