BEGIN:VCALENDAR
PRODID:-//eluceo/ical//2.0/EN
VERSION:2.0
CALSCALE:GREGORIAN
BEGIN:VEVENT
UID:0fccd019f15ef29788fd6253e31787f3
DTSTAMP:20260421T164815Z
SUMMARY:Adult Swim Lessons (ages 14+)
DESCRIPTION:Shaw JCC of Akron\nJCC Calendar\nhttps://shawjcc.org/jcccalenda
 r/adult-swim-lessons-ages-14-11262018\n\nEveryone should learn the basics 
 of swimming and how to feel comfortable in the water. Learn-at-your-own-pa
 ce and gain confidence in the water. Developed for older teens and adults\
 , this program gives adult swimmers at every level the opportunity to impr
 ove their skills in a safe environment – and under the guidance of a tra
 ined instructor.\n\nMondays & Wednesdays\, Nov. 26-Dec. 19\n603.311
DTSTART;TZID=America/New_York:20181126T191500
DTEND;TZID=America/New_York:20181126T194500
END:VEVENT
END:VCALENDAR
