BEGIN:VCALENDAR
PRODID:-//eluceo/ical//2.0/EN
VERSION:2.0
CALSCALE:GREGORIAN
BEGIN:VEVENT
UID:45c7a473a2eea2e5c5293bc8befc8bc2
DTSTAMP:20260424T042030Z
SUMMARY:Adult Swim Lessons (ages 14+)
DESCRIPTION:Shaw JCC of Akron\nJCC Calendar\nhttps://shawjcc.org/jcccalenda
 r/adult-swim-lessons-ages-14-603996\n\nCost: $40 M/$60 G\n\nCall 330-867-7
 850 or stop by the fitness desk to register! 603.996
DTSTART;TZID=America/New_York:20170213T193000
DTEND;TZID=America/New_York:20170213T201500
END:VEVENT
END:VCALENDAR
