BEGIN:VCALENDAR
PRODID:-//eluceo/ical//2.0/EN
VERSION:2.0
CALSCALE:GREGORIAN
BEGIN:VEVENT
UID:12a1094b03ff497abc6910f09d55f9d8
DTSTAMP:20260425T140132Z
SUMMARY:American Red Cross CPR Pro Course
DESCRIPTION:Shaw JCC of Akron\nJCC Calendar\nhttps://shawjcc.org/jcccalenda
 r/american-red-cross-cpr-pro-course-march17\n\nRED CROSS CPR PRO COURSES (
 Age 15+) \n\nAmerican Red Cross CPR classes take just a few short hours\,
  but the skills you'll learn during the process can make all the differenc
 e to someone in need. Ideal for police\, fire\, EMS\, teachers\, administr
 ators\, nurses and other health care professionals - and for anyone who wa
 nts to learn important life-saving skills. Must sign up at least one week 
 in advance with email address for sending digital book. Limited to 12 regi
 strants. \n\n603.875\n\nCost: $...
DTSTART;TZID=America/New_York:20190317T120000
DTEND;TZID=America/New_York:20190317T160000
END:VEVENT
END:VCALENDAR
