BEGIN:VCALENDAR
PRODID:-//eluceo/ical//2.0/EN
VERSION:2.0
CALSCALE:GREGORIAN
BEGIN:VEVENT
UID:e201b96037d1f0b9c52e147b6e430dd6
DTSTAMP:20260425T140012Z
SUMMARY:Annual Campus Gala
DESCRIPTION:Shaw JCC of Akron\nJCC Calendar\nhttps://shawjcc.org/jcccalenda
 r/annual-campus-gala-261306\n\nOn Saturday\, Nov. 10 from 6:30 to 9:30 p.m
 .\, the Schultz Campus for Jewish Life will host its annual Campus Gala th
 emed “Celebrating Our Community.” Campus Gala honorees Rob and Andrea 
 Minster and Tikkun Olam award recipients Alan and Janice Woll will be reco
 gnized. Committed to giving back\, both couples are role models in the Akr
 on and Jewish communities for their longtime devotion and personal commitm
 ent to making Akron\, and the world\, a better place to live.\n\nA recepti
 on with cocktai...
DTSTART;TZID=America/New_York:20181110T183000
DTEND;TZID=America/New_York:20181110T213000
END:VEVENT
END:VCALENDAR
