BEGIN:VCALENDAR
PRODID:-//eluceo/ical//2.0/EN
VERSION:2.0
CALSCALE:GREGORIAN
BEGIN:VEVENT
UID:99fb938e08f3178a54d2723eb47e23b8
DTSTAMP:20260422T151333Z
SUMMARY:Aqua Fit
DESCRIPTION:Shaw JCC of Akron\nJCC Calendar\nhttps://shawjcc.org/jcccalenda
 r/aqua-fit-tues\n\nFREE for J members!  Medium to high intensity level w
 orkout offers a combination of moves in the shallow or deep water to build
  strength and endurance. (All levels)
DTSTART;TZID=America/New_York:20161025T180000
DTEND;TZID=America/New_York:20161025T190000
END:VEVENT
END:VCALENDAR
