BEGIN:VCALENDAR
PRODID:-//eluceo/ical//2.0/EN
VERSION:2.0
CALSCALE:GREGORIAN
BEGIN:VEVENT
UID:3fab396e8f5076e813d7b9d93f23560f
DTSTAMP:20260425T185221Z
SUMMARY:Art Fridays
DESCRIPTION:Shaw JCC of Akron\nJCC Calendar\nhttps://shawjcc.org/jcccalenda
 r/art-fridaysmay10\n\nThe art of corresponding has changes tremendously ov
 er the years\, with letter writing and sending thank you notes seeming hop
 elessly outdated. But it is an art worth bringing back. It’s also an art
  because notes are a keepsake! For the next three Art Fridays\, we’ll le
 arn different techniques for creating beautiful notes and greeting cards.
  \n\nThis month Nicki Embly\, owner of Creatively Yours\, is back and wil
 l be helping us create personalized note cards with ink\, rubber stamps an
 d desig...
DTSTART;TZID=America/New_York:20190510T103000
DTEND;TZID=America/New_York:20190510T123000
END:VEVENT
END:VCALENDAR
