BEGIN:VCALENDAR
PRODID:-//eluceo/ical//2.0/EN
VERSION:2.0
CALSCALE:GREGORIAN
BEGIN:VEVENT
UID:da0b2ca82bc68c67d7921c053873d9d9
DTSTAMP:20260422T120557Z
SUMMARY:Art & The Artist Class with Akron Artworks
DESCRIPTION:Shaw JCC of Akron\nJCC Calendar\nhttps://shawjcc.org/jcccalenda
 r/art-the-artist-class-with-akron-artworks-11022018\n\nA creative space wh
 ere kids can explore art materials\, develop their creative selves\, and 
 soothe the soul through stress-reduction and other therapeutic activities.
 \n\nAges 5-10\, 4:15-5:15 p.m.\n\nSESSION: Nov. 2\, 9\, 16 & 30\; Dec. 7 &
  14 (200.ART06)\n\n(additional $15 materials fee)
DTSTART;TZID=America/New_York:20181102T161500
DTEND;TZID=America/New_York:20181102T171500
END:VEVENT
END:VCALENDAR
