BEGIN:VCALENDAR
PRODID:-//eluceo/ical//2.0/EN
VERSION:2.0
CALSCALE:GREGORIAN
BEGIN:VEVENT
UID:ad750db383d887ceaa5e7794cfcae599
DTSTAMP:20260425T012345Z
SUMMARY:Baby & Me (ages <3) - American Red Cross Swim Lessons
DESCRIPTION:Shaw JCC of Akron\nJCC Calendar\nhttps://shawjcc.org/jcccalenda
 r/baby--me-ages-3---american-red-cross-1499091242\n\nBaby & Me\n(ages
DTSTART;TZID=America/New_York:20170911T173000
DTEND;TZID=America/New_York:20170911T180000
END:VEVENT
END:VCALENDAR
