BEGIN:VCALENDAR
PRODID:-//eluceo/ical//2.0/EN
VERSION:2.0
CALSCALE:GREGORIAN
BEGIN:VEVENT
UID:a911b3c5ce55ff69debc65320038c85e
DTSTAMP:20260421T001420Z
SUMMARY:Baby & Me (ages <3) - American Red Cross Swim Lessons
DESCRIPTION:Shaw JCC of Akron\nJCC Calendar\nhttps://shawjcc.org/jcccalenda
 r/baby-me-ages-3-american-red-cross-swim-lessons-01082018\n\nLearn how to 
 handle your future swimmer and introduce your child to water fun. Learn ho
 w to hold your child\, develop basic swimming skills\, sing songs and impl
 ement water play to help build a positive parent child relationship. We wi
 ll work on kicking\, floating\, blowing bubbles\, arm strokes and water sa
 fety.\n\n603.503
DTSTART;TZID=America/New_York:20180108T170000
DTEND;TZID=America/New_York:20180108T173000
END:VEVENT
END:VCALENDAR
