BEGIN:VCALENDAR
PRODID:-//eluceo/ical//2.0/EN
VERSION:2.0
CALSCALE:GREGORIAN
BEGIN:VEVENT
UID:da75a38c86fd75a5726691046d2f0594
DTSTAMP:20260420T171713Z
SUMMARY:Baby & Me (ages <3) - American Red Cross Swim Lessons
DESCRIPTION:Shaw JCC of Akron\nJCC Calendar\nhttps://shawjcc.org/jcccalenda
 r/baby-me-ages-3-american-red-cross-swim-lessons-06112018\n\nLearn how to 
 handle your future swimmer and introduce your child to water fun. This Ame
 rican Red Cross IPAP program will guide you to become comfortable with you
 r child in the water. Learn how to hold your child\, develop basic swimmin
 g skills\, sing songs\, and implement water play to help build a positive 
 parent-child relationship. We will work on kicking\, floating\, blowing bu
 bbles\, arm strokes and water safety. We ask that children who are not toi
 let-trained wear a swim diaper. Parents are re...
DTSTART;TZID=America/New_York:20180611T170000
DTEND;TZID=America/New_York:20180611T173000
END:VEVENT
END:VCALENDAR
