BEGIN:VCALENDAR
PRODID:-//eluceo/ical//2.0/EN
VERSION:2.0
CALSCALE:GREGORIAN
BEGIN:VEVENT
UID:274801f25b2d6bf3341eb20a37ec3055
DTSTAMP:20260424T232535Z
SUMMARY:Basketball Skills & Drills with Coach Damon Gidley
DESCRIPTION:Shaw JCC of Akron\nJCC Calendar\nhttps://shawjcc.org/jcccalenda
 r/basketball-skills-drills-with-coach-damon-gidley\n\nThis fun eight-week 
 session will increase your young player’s skill level and confidence in 
 shooting\, ball handling\, footwork\, rebounding\, and defensive and offen
 sive moves. Players will participate in a friendly scrimmage at the end of
  each session to put these skills into practice. \nKidSpace\n\nWednesdays
 \, Oct. 23 & 30\; Nov. 6\, 13 & 20\; and Dec. 4\, 11 & 18\n\n200.BB1 Ages 
 4-6\, 4:30-5:15 p.m. \n\n200.BB2 Ages 7-11\, 5:15-6 p.m.   \n\nCost: $6
 5 M/$75 G
DTSTART;TZID=America/New_York:20191023T163000
DTEND;TZID=America/New_York:20191023T180000
END:VEVENT
END:VCALENDAR
