BEGIN:VCALENDAR
PRODID:-//eluceo/ical//2.0/EN
VERSION:2.0
CALSCALE:GREGORIAN
BEGIN:VEVENT
UID:136ecce4c23d1717a95adbb8de026f14
DTSTAMP:20260424T123615Z
SUMMARY:Be Tay Avon Café
DESCRIPTION:Shaw JCC of Akron\nJCC Calendar\nhttps://shawjcc.org/jcccalenda
 r/be-315698\n\nJoin your friends for a short Shabbat\, delicious meal\, an
 d select speakers at the Shaw JCC. Reservations are encouraged. This progr
 am is supported by a grant from the Edward I. Abramson Program Fund. Cost:
  Free will donation/minimum $5 suggested.\n\nSept. 27  Tim Carroll will t
 alk about  his book WWII Akron\n\n4th Friday of each month at Noon (note 
 the time change)\n\n 
DTSTART;TZID=America/New_York:20190927T120000
DTEND;TZID=America/New_York:20190927T140000
END:VEVENT
END:VCALENDAR
