BEGIN:VCALENDAR
PRODID:-//eluceo/ical//2.0/EN
VERSION:2.0
CALSCALE:GREGORIAN
BEGIN:VEVENT
UID:a645f019dab4cdbdbaa974eeb8f7d328
DTSTAMP:20260421T133639Z
SUMMARY:Be Tay Avon Café
DESCRIPTION:Shaw JCC of Akron\nJCC Calendar\nhttps://shawjcc.org/jcccalenda
 r/be-tay-avon-cafjune28\n\nJoin your friends for a short Shabbat\, delicio
 us meal\, and select speakers. Reservations are encouraged. Cost: Free wil
 l donation. \n\nJune 28: It’s a Pool Party! Picnic under the Pavilion a
 t the Pool! We’re taking the Be Tay Avon Café outside for a good old fa
 shioned summertime picnic! Join us as we nosh on summertime favorites and 
 enjoy the great outdoors. You can even take a dip in the pool if you’d l
 ike! \n \nThis program is supported by a grant from the Edward I. Abrams
 on Progr...
DTSTART;TZID=America/New_York:20190628T113000
DTEND;TZID=America/New_York:20190628T123000
END:VEVENT
END:VCALENDAR
