BEGIN:VCALENDAR
PRODID:-//eluceo/ical//2.0/EN
VERSION:2.0
CALSCALE:GREGORIAN
BEGIN:VEVENT
UID:8b939c76a98d6df50f9f59ba2f6ff9d3
DTSTAMP:20260422T114228Z
SUMMARY:Beehive: The 60's Musical
DESCRIPTION:Shaw JCC of Akron\nJCC Calendar\nhttps://shawjcc.org/jcccalenda
 r/beehive-the-60s-musical-05162018\n\nDepart The J at 12:30 p.m. to Hanna 
 Theater\n\nAn exuberant jukebox celebration of the women musicians who mad
 e the 60s truly memorable\, Beehive transports audiences on a nostalgic mu
 sical journey back in time. Featuring forty classic charttoppers (and Aqua
  Net-glistening coiffures\, of course)\, this groovy retro-revue highlight
 s hits that range from the Supremesâ€™ memorable melodies to Janis Joplin
 â€™s heart-rending rasp to Aretha Franklinâ€™s soul and more. So\, break o
 ut your vintage bestâ€...
DTSTART;TZID=America/New_York:20180516T123000
DTEND;TZID=America/New_York:20180516T170000
END:VEVENT
END:VCALENDAR
