BEGIN:VCALENDAR
PRODID:-//eluceo/ical//2.0/EN
VERSION:2.0
CALSCALE:GREGORIAN
BEGIN:VEVENT
UID:6ead1dbe39691d7f6ca4be828e084230
DTSTAMP:20260425T110424Z
SUMMARY:Beginners Spinning
DESCRIPTION:Shaw JCC of Akron\nJCC Calendar\nhttps://shawjcc.org/jcccalenda
 r/beginners-spinning-12042017\n\nAll levels welcome! Work at your own pace
 . Great Cardio Workout!\n\nAn all-terrain ride that will burn calories\, b
 uild strength\, and improve fitness. The energetic music motivates each ri
 der through a variety of speed and resistance challenges. Each class will 
 take you on a creatively designed ride to maximize your fitness potential.
DTSTART;TZID=America/New_York:20171204T170000
DTEND;TZID=America/New_York:20171204T174500
END:VEVENT
END:VCALENDAR
