BEGIN:VCALENDAR
PRODID:-//eluceo/ical//2.0/EN
VERSION:2.0
CALSCALE:GREGORIAN
BEGIN:VEVENT
UID:a1fb31746a334c0a38568b36c1f79ed1
DTSTAMP:20260420T120225Z
SUMMARY:Be’Tay Avon Café - Passover Celebration
DESCRIPTION:Shaw JCC of Akron\nJCC Calendar\nhttps://shawjcc.org/jcccalenda
 r/betay-avon-caf-passover-celebration\n\nBe’Tay Avon Café 3rd Tuesdays 
 11:30 a.m.\n\nJoin the fun\, fellowship and conversation at the once-a-mon
 th Old-Style Jewish Deli. Who knows – you might just learn something! Li
 ght lunch served. Pay as you are able\, but $5 donation is encouraged. Ple
 ase RSVP to Rachel.\n\nApril 18 - Passover Celebration with our shaliach\,
  Shay\, as always!
DTSTART;TZID=America/New_York:20170418T113000
DTEND;TZID=America/New_York:20170418T130000
END:VEVENT
END:VCALENDAR
