BEGIN:VCALENDAR
PRODID:-//eluceo/ical//2.0/EN
VERSION:2.0
CALSCALE:GREGORIAN
BEGIN:VEVENT
UID:5e71e1b0c01c8f07545a23f9cabdc340
DTSTAMP:20260425T031911Z
SUMMARY:Be'Tay Avon Cafe
DESCRIPTION:Shaw JCC of Akron\nJCC Calendar\nhttps://shawjcc.org/jcccalenda
 r/betay-avon-cafe-06192018\n\nCantor Gary Gelender from Cleveland will onc
 e again come and entertain us on the piano with his variations of Broadway
 \, Yiddish and Hebrew/Israeli music! \n\nJoin the fun\, fellowship and co
 nversation at the once-a-month luncheon. Anything could happen\, from ente
 rtainment to education. Lite lunch served\, pay-as-you-are-able\, but a $5
 .00 donation is encouraged. RSVP to Rachel Armin Williams at 330-835-0027.
 \n\n 
DTSTART;TZID=America/New_York:20180619T113000
DTEND;TZID=America/New_York:20180619T123000
END:VEVENT
END:VCALENDAR
