BEGIN:VCALENDAR
PRODID:-//eluceo/ical//2.0/EN
VERSION:2.0
CALSCALE:GREGORIAN
BEGIN:VEVENT
UID:ca7afc0cf9d759caa0780dddb6914ed8
DTSTAMP:20260423T120352Z
SUMMARY:Be'Tay Avon Cafe
DESCRIPTION:Shaw JCC of Akron\nJCC Calendar\nhttps://shawjcc.org/jcccalenda
 r/betay-avon-cafe-1488989742-224409\n\nCantor Gary Gelender will be perfor
 ming a \nprogram of Broadway Melodies and Memories on Tuesday\, March 21\,
  2017 \n at 12:00 p.m. He will be featuring songs  from 15 musicals includ
 ing a \nmedley from Fiddler on the Roof\,  If I Loved You from  Carousel\,
  Oh\, \nWhat a Beautiful Morning from Oklahoma\, a medley from West Side  
 Story \nand the theme song from Cabaret.  Cantor Gelender has been sharing
  musical programs for over 25 years. \nHe has  performed at the Shaw JCC p
 reviously and is...
DTSTART;TZID=America/New_York:20170321T113500
DTEND;TZID=America/New_York:20170321T133000
END:VEVENT
END:VCALENDAR
