BEGIN:VCALENDAR
PRODID:-//eluceo/ical//2.0/EN
VERSION:2.0
CALSCALE:GREGORIAN
BEGIN:VEVENT
UID:00e242a2a6c37b03170f6744deaa0683
DTSTAMP:20260420T170049Z
SUMMARY:Be’Tay Avon Café: Tu B’shevat Brunch
DESCRIPTION:Shaw JCC of Akron\nJCC Calendar\nhttps://shawjcc.org/jcccalenda
 r/betay-avon-caftu-bshevat-brunch\n\nTu B’shevat is the Holiday of Trees
 \, yet it falls at the end of January when the trees around here are bare 
 and the last place you want to be is outside. As the “New Year of Trees\
 ,” the holiday marks the beginning of nature’s revival\, so what bette
 r way to celebrate than with a feast of nature’s bounty in a warm and co
 zy place? Those who participate in a Tu B’shevat seder will eat at least
  15 different types of fruits and vegetables. It is also customary to incl
 ude the seven speci...
DTSTART;TZID=America/New_York:20190125T113000
DTEND;TZID=America/New_York:20190125T130000
END:VEVENT
END:VCALENDAR
