BEGIN:VCALENDAR
PRODID:-//eluceo/ical//2.0/EN
VERSION:2.0
CALSCALE:GREGORIAN
BEGIN:VEVENT
UID:cc4f48f9f64aa1262e3c21477ad8b4d8
DTSTAMP:20260421T135143Z
SUMMARY:Book Sitters Book Club
DESCRIPTION:Shaw JCC of Akron\nJCC Calendar\nhttps://shawjcc.org/jcccalenda
 r/book-sitters-book-clubjan2020\n\nThe Book Sitters Book Club meets at the
  JCC and all are welcome. You don’t even have to read the book to enjoy 
 a lively discussion! A healthy lunch is included. Fee $8 and reservations 
 are encouraged.\n\nFRI.\, JAN. 17 11:30 AM THE GRASS IS SINGING BY DORIS L
 ESSING\n\nThe Grass is singing is the first novel\, published in 1950\, by
  British Nobel Prize winning author Doris Lessing. It takes place in South
 ern Rhodesia (now Zimbabwe)\, in southern Africa\, during the 1940s and de
 als with the racial...
DTSTART;TZID=America/New_York:20200117T113000
DTEND;TZID=America/New_York:20200117T123000
END:VEVENT
END:VCALENDAR
