BEGIN:VCALENDAR
PRODID:-//eluceo/ical//2.0/EN
VERSION:2.0
CALSCALE:GREGORIAN
BEGIN:VEVENT
UID:b58fc85871189526bb64ff93d65d0533
DTSTAMP:20260421T154907Z
SUMMARY:Boot Camp
DESCRIPTION:Shaw JCC of Akron\nJCC Calendar\nhttps://shawjcc.org/jcccalenda
 r/boot-camp\n\nFREE for J members! Get ready for camp! This class utilizes
  a variety of cardiovascular endurance and strength-training drills and to
 ols to challenge the body. (Intermediate-Advanced)
DTSTART;TZID=America/New_York:20170104T173000
DTEND;TZID=America/New_York:20170104T183000
END:VEVENT
END:VCALENDAR
