BEGIN:VCALENDAR
PRODID:-//eluceo/ical//2.0/EN
VERSION:2.0
CALSCALE:GREGORIAN
BEGIN:VEVENT
UID:f8a1e4578f2552c17dde22c92ae1bd4e
DTSTAMP:20260422T162917Z
SUMMARY:Bridge
DESCRIPTION:Shaw JCC of Akron\nJCC Calendar\nhttps://shawjcc.org/jcccalenda
 r/bridge-09212018\n\nNo matter what level of play\, join us for Bridge. No
  instruction is provided. Open to all. No RSVP needed. $1 donation suggest
 ed.
DTSTART;TZID=America/New_York:20180907T103000
DTEND;TZID=America/New_York:20180907T130000
END:VEVENT
END:VCALENDAR
