BEGIN:VCALENDAR
PRODID:-//eluceo/ical//2.0/EN
VERSION:2.0
CALSCALE:GREGORIAN
BEGIN:VEVENT
UID:8ee601cd04595fd30f218936850d891f
DTSTAMP:20260421T212611Z
SUMMARY:Bring A Friend to the Outdoor Pool
DESCRIPTION:Shaw JCC of Akron\nJCC Calendar\nhttps://shawjcc.org/jcccalenda
 r/bring-a-friend-to-the-outdoor-pool-06142018\n\nJump right in and make a 
 splash – and bring a friend\, too! On Thursdays\, June 14 and July 12\, 
 4-7:45 p.m.\, we will honor the member guest discount rate for the pool.
DTSTART;TZID=America/New_York:20180614T160000
DTEND;TZID=America/New_York:20180614T194500
END:VEVENT
END:VCALENDAR
