BEGIN:VCALENDAR
PRODID:-//eluceo/ical//2.0/EN
VERSION:2.0
CALSCALE:GREGORIAN
BEGIN:VEVENT
UID:2491cc95f5efe0d6e844f8656bbc18c0
DTSTAMP:20260422T043057Z
SUMMARY:Canceled: Princess & Superhero Brunch
DESCRIPTION:Shaw JCC of Akron\nJCC Calendar\nhttps://shawjcc.org/jcccalenda
 r/brunch\n\nThis event is canceled as of 5/2/17. We apologize for the inco
 nvenience. If you have already registered online\, you will receive a cred
 it to your debit/credit card. Questions? Please email Kim Garra at kgarra@
 jewishakron.org. \n\n\n\n 
DTSTART;TZID=America/New_York:20170507T120000
DTEND;TZID=America/New_York:20170507T133000
END:VEVENT
END:VCALENDAR
