BEGIN:VCALENDAR
PRODID:-//eluceo/ical//2.0/EN
VERSION:2.0
CALSCALE:GREGORIAN
BEGIN:VEVENT
UID:c31a7e3a046dbbbbd7ccd68c8e68d71a
DTSTAMP:20260424T195534Z
SUMMARY:Building closes at 4 p.m.
DESCRIPTION:Shaw JCC of Akron\nJCC Calendar\nhttps://shawjcc.org/jcccalenda
 r/building-closes-at-4-pm\n\nChanukah begins at sundown/Christmas Eve - bu
 ilding closes at 4 p.m.
DTSTART;TZID=America/New_York:20161224T160000
DTEND;TZID=America/New_York:20161224T210000
END:VEVENT
END:VCALENDAR
