BEGIN:VCALENDAR
PRODID:-//eluceo/ical//2.0/EN
VERSION:2.0
CALSCALE:GREGORIAN
BEGIN:VEVENT
UID:99af1f13633407a45f4966f2e0e8cda3
DTSTAMP:20260422T153425Z
SUMMARY:Building closes at 4 p.m.
DESCRIPTION:Shaw JCC of Akron\nJCC Calendar\nhttps://shawjcc.org/jcccalenda
 r/building-closes-at-4-pm-new-year-eve\n\nBuilding closes at 4 p.m.
DTSTART;TZID=America/New_York:20161231T160000
DTEND;TZID=America/New_York:20161231T210000
END:VEVENT
END:VCALENDAR
