BEGIN:VCALENDAR
PRODID:-//eluceo/ical//2.0/EN
VERSION:2.0
CALSCALE:GREGORIAN
BEGIN:VEVENT
UID:5f714e3a5ee8e2c7851e9891c6d846f6
DTSTAMP:20260420T201955Z
SUMMARY:Camp JCC Winter Camp
DESCRIPTION:Shaw JCC of Akron\nJCC Calendar\nhttps://shawjcc.org/jcccalenda
 r/camp-jcc-winter-camp2627\n\nAges 5-12 \n\nDec. 23\, 26\, 27 & 30 and Ja
 n. 2 & 3 \n\nAt Winter Camp\, children will enjoy their favorite Camp JCC
  activities: field trips\, swimming\, movie\, arts and crafts\, camp game 
 and more! \n\n\nAll-Day Childcare Available  \n\nMorning care* is 7-9 a.
 m. with breakfast provided. \n\nRegular programming is 9 a.m.-3:30 p.m. 
 \n\nAfternoon care* is 3:30-6 p.m. \n\nPlease pick-up and drop-off in the
  Shaw JCC auditorium.\n\n  \nDaily Registration \n\nCost: $55 M/$70 G pe
 r day\n\nYour ch...
DTSTART;TZID=America/New_York:20191226T090000
DTEND;TZID=America/New_York:20191226T153000
END:VEVENT
END:VCALENDAR
