BEGIN:VCALENDAR
PRODID:-//eluceo/ical//2.0/EN
VERSION:2.0
CALSCALE:GREGORIAN
BEGIN:VEVENT
UID:76d3d0cdd21cd15c16f5dee60968b693
DTSTAMP:20260425T032700Z
SUMMARY:Campus Gala
DESCRIPTION:Shaw JCC of Akron\nJCC Calendar\nhttps://shawjcc.org/jcccalenda
 r/campus-gala-2019-305277\n\nSave the Date! November 9\, 2019 for Campus G
 ala benefitting the Shaw JCC of Akron and The Lippman School located at th
 e Schultz Campus for Jewish Life.
DTSTART;TZID=America/New_York:20191109T183000
DTEND;TZID=America/New_York:20191109T213000
END:VEVENT
END:VCALENDAR
