BEGIN:VCALENDAR
PRODID:-//eluceo/ical//2.0/EN
VERSION:2.0
CALSCALE:GREGORIAN
BEGIN:VEVENT
UID:63dae3011942b13da264c82eb0a5821b
DTSTAMP:20260420T202007Z
SUMMARY:Cardio Wildcard
DESCRIPTION:Shaw JCC of Akron\nJCC Calendar\nhttps://shawjcc.org/jcccalenda
 r/cardio-wildcard64648\n\nFREE for J members!  Our team of instructors w
 ant to keep you guessing and challenge your mind and body different ways e
 ach week! You will get to experience a variety of cardio formats! (All Lev
 els)
DTSTART;TZID=America/New_York:20170905T103000
DTEND;TZID=America/New_York:20170905T111500
END:VEVENT
END:VCALENDAR
