BEGIN:VCALENDAR
PRODID:-//eluceo/ical//2.0/EN
VERSION:2.0
CALSCALE:GREGORIAN
BEGIN:VEVENT
UID:1d15b638cef6a0b572efbafd7e5db6dd
DTSTAMP:20260423T231738Z
SUMMARY:CardioKick/TurboKick
DESCRIPTION:Shaw JCC of Akron\nJCC Calendar\nhttps://shawjcc.org/jcccalenda
 r/cardiokickturbokick-12072017\n\nFREE for J members! Cardio and weight tr
 aining with an emphasis on kick-boxing. A high intensity class that uses b
 oxing bags for maximum muscle burn.(All Levels)
DTSTART;TZID=America/New_York:20171207T103000
DTEND;TZID=America/New_York:20171207T111500
END:VEVENT
END:VCALENDAR
