BEGIN:VCALENDAR
PRODID:-//eluceo/ical//2.0/EN
VERSION:2.0
CALSCALE:GREGORIAN
BEGIN:VEVENT
UID:50a7825c6a259a17c989ca808ac3804e
DTSTAMP:20260425T025947Z
SUMMARY:Children's Hanukkah\, Dreidel and Song
DESCRIPTION:Shaw JCC of Akron\nJCC Calendar\nhttps://shawjcc.org/jcccalenda
 r/childrens-hanukkah-dreidel-and-song-12032018\n\nJoin Shabbat Scott and f
 riends as they welcome in the second night of Hanukkah with songs\, dreide
 ls\, gelt and the second night Menorah lighting. We will continue lighting
  our menorah every weeknight at 5:30 p.m. in the open space in the J lobby
 .
DTSTART;TZID=America/New_York:20181203T170000
DTEND;TZID=America/New_York:20181203T180000
END:VEVENT
END:VCALENDAR
