BEGIN:VCALENDAR
PRODID:-//eluceo/ical//2.0/EN
VERSION:2.0
CALSCALE:GREGORIAN
BEGIN:VEVENT
UID:69efe9c54c34012e9ba1bd9e8d2a8c57
DTSTAMP:20260424T003628Z
SUMMARY:Cocoa\, Creativity and Crafts!
DESCRIPTION:Shaw JCC of Akron\nJCC Calendar\nhttps://shawjcc.org/jcccalenda
 r/cocoa-creativity-and-craftsfeb\n\nNo Experience necessary! Join our new 
 artistic venue with no stress\, just fun! Cocoa/coffee bar\, craft instruc
 tions and supplies\, and a whole lot of fun with your friends (and friends
  to be)! $12/M $18/G     \n\nFEB. 12    “Make and Take” a persona
 lized apron. Perfect to wear for our next Cooking Class!\n\nMARCH 11   L
 ois (yes\, Lois the Lavender Lady!) is back to help up create some wonderf
 ul concoctions with (you guessed it!) LAVENDER!\n\nReservations are a must
 !
DTSTART;TZID=America/New_York:20200212T131500
DTEND;TZID=America/New_York:20200212T150000
END:VEVENT
END:VCALENDAR
