BEGIN:VCALENDAR
PRODID:-//eluceo/ical//2.0/EN
VERSION:2.0
CALSCALE:GREGORIAN
BEGIN:VEVENT
UID:23a90aa9264f1ed62ecdb471a9faf7c0
DTSTAMP:20260424T152800Z
SUMMARY:Community Shabbat Dinner
DESCRIPTION:Shaw JCC of Akron\nJCC Calendar\nhttps://shawjcc.org/jcccalenda
 r/community-shabbat-at-1509558812-251229\n\nThe Akron Jewish community is 
 invited to come together for a series of Community Shabbat Dinners in 2018
 . The second one will be held on May 25 at Temple Israel starting at 5:30 
 p.m. The evening's speaker is Rabbi Geoffrey A. Mitelman. He is the Foundi
 ng Director of Sinai and Synapses\, an organization that bridges the scien
 tific and religious worlds\, and is being incubated at Clal – The Nation
 al Jewish Center for Learning and Leadership. He is a sought-out teacher\,
  presenter and scholar-in-...
DTSTART;TZID=America/New_York:20180525T173000
DTEND;TZID=America/New_York:20180525T203000
END:VEVENT
END:VCALENDAR
