BEGIN:VCALENDAR
PRODID:-//eluceo/ical//2.0/EN
VERSION:2.0
CALSCALE:GREGORIAN
BEGIN:VEVENT
UID:751e083400db4f27e5a4df3316501b64
DTSTAMP:20260423T184334Z
SUMMARY:Community Shabbat Dinner at Temple Israel
DESCRIPTION:Shaw JCC of Akron\nJCC Calendar\nhttps://shawjcc.org/jcccalenda
 r/community-shabbat-dinner-at-temple-israel-330261\n\nOur next Community S
 habbat Dinner is Friday\, Oct. 25 at Temple Israel Akron\, marking one yea
 r since the unspeakable horror at Pittsburgh's Tree of Life Synagogue. On 
 this one-year anniversary\, we’re calling on you to #ShowUpForShabbat. L
 et us come together to honor the victims and raise our collective voice fo
 r a world free of antisemitism\, hate\, and bigotry.\n\nSpecial guest Josh
  Goldberg\, singer\, songwriter\, producer\, and cantorial soloist from Lo
 s Angeles\, along with native Akron musicia...
DTSTART;TZID=America/New_York:20191025T181500
DTEND;TZID=America/New_York:20191025T200000
END:VEVENT
END:VCALENDAR
