BEGIN:VCALENDAR
PRODID:-//eluceo/ical//2.0/EN
VERSION:2.0
CALSCALE:GREGORIAN
BEGIN:VEVENT
UID:cfc9dff5f5c4f1dee9df2ba6df64e7ec
DTSTAMP:20260423T165045Z
SUMMARY:Community Shabbat Part II
DESCRIPTION:Shaw JCC of Akron\nJCC Calendar\nhttps://shawjcc.org/jcccalenda
 r/community-shabbat-pt2sat-318650\n\nCommunity Shabbat at Beth El Congrega
 tion
DTSTART;TZID=America/New_York:20200502T090000
DTEND;TZID=America/New_York:20200502T120000
END:VEVENT
END:VCALENDAR
