BEGIN:VCALENDAR
PRODID:-//eluceo/ical//2.0/EN
VERSION:2.0
CALSCALE:GREGORIAN
BEGIN:VEVENT
UID:4a97f6dd0b7e8461aef3c304ceb10a66
DTSTAMP:20260426T032646Z
SUMMARY:Core de Force
DESCRIPTION:Shaw JCC of Akron\nJCC Calendar\nhttps://shawjcc.org/jcccalenda
 r/core-de-force-04022018\n\nFREE for members! Boxing\, Kickboxing\, and Mu
 ay Thai combinations  mixed with fat-blasting cardio and bodyweight moves
  to help you zero in on stubborn belly fat and carve allover definition.
DTSTART;TZID=America/New_York:20180402T063000
DTEND;TZID=America/New_York:20180402T071500
END:VEVENT
END:VCALENDAR
