BEGIN:VCALENDAR
PRODID:-//eluceo/ical//2.0/EN
VERSION:2.0
CALSCALE:GREGORIAN
BEGIN:VEVENT
UID:5e3c9c07b9e808a5f5ad68d0541a78ac
DTSTAMP:20260420T064119Z
SUMMARY:Core de Force
DESCRIPTION:Shaw JCC of Akron\nJCC Calendar\nhttps://shawjcc.org/jcccalenda
 r/core-de-force-04042018\n\nBoxing\, Kickboxing\, and Muay Thai combinatio
 ns  mixed with fat-blasting cardio and bodyweight moves to help you zero 
 in on stubborn belly fat and carve allover definition.
DTSTART;TZID=America/New_York:20180404T173000
DTEND;TZID=America/New_York:20180404T183000
END:VEVENT
END:VCALENDAR
