BEGIN:VCALENDAR
PRODID:-//eluceo/ical//2.0/EN
VERSION:2.0
CALSCALE:GREGORIAN
BEGIN:VEVENT
UID:c8484e5d4c1adadaeeae20587a3c91a2
DTSTAMP:20260423T053724Z
SUMMARY:Core de Force
DESCRIPTION:Shaw JCC of Akron\nJCC Calendar\nhttps://shawjcc.org/jcccalenda
 r/core-de-force-07022018\n\nFREE for members! Boxing\, Kickboxing\, and Mu
 ay Thai combinations  mixed with fat-blasting cardio and bodyweight moves
  to help you zero in on stubborn belly fat and carve allover definition.
DTSTART;TZID=America/New_York:20180702T070000
DTEND;TZID=America/New_York:20180702T074500
END:VEVENT
END:VCALENDAR
